BEGIN:VCALENDAR
VERSION:2.0
PRODID:-//Squarespace Inc/Squarespace 6//v6//EN
BEGIN:VEVENT
UID:5acfd6c40e2e72f68a2acc69@squarespace.com
DTSTAMP:20180619T170147Z
DTSTART:20180427T013000Z
DTEND:20180427T023000Z
SUMMARY:Tim Platt Live in COWncert
END:VEVENT
END:VCALENDAR
